BEGIN:VCALENDAR
VERSION:2.0
PRODID:-//Winnipeg Construction Association - ECPv6.15.20//NONSGML v1.0//EN
CALSCALE:GREGORIAN
METHOD:PUBLISH
X-ORIGINAL-URL:https://winnipegconstruction.ca
X-WR-CALDESC:Events for Winnipeg Construction Association
REFRESH-INTERVAL;VALUE=DURATION:PT1H
X-Robots-Tag:noindex
X-PUBLISHED-TTL:PT1H
BEGIN:VTIMEZONE
TZID:America/Toronto
BEGIN:DAYLIGHT
TZOFFSETFROM:-0500
TZOFFSETTO:-0400
TZNAME:EDT
DTSTART:20220313T070000
END:DAYLIGHT
BEGIN:STANDARD
TZOFFSETFROM:-0400
TZOFFSETTO:-0500
TZNAME:EST
DTSTART:20221106T060000
END:STANDARD
BEGIN:DAYLIGHT
TZOFFSETFROM:-0500
TZOFFSETTO:-0400
TZNAME:EDT
DTSTART:20230312T070000
END:DAYLIGHT
BEGIN:STANDARD
TZOFFSETFROM:-0400
TZOFFSETTO:-0500
TZNAME:EST
DTSTART:20231105T060000
END:STANDARD
BEGIN:DAYLIGHT
TZOFFSETFROM:-0500
TZOFFSETTO:-0400
TZNAME:EDT
DTSTART:20240310T070000
END:DAYLIGHT
BEGIN:STANDARD
TZOFFSETFROM:-0400
TZOFFSETTO:-0500
TZNAME:EST
DTSTART:20241103T060000
END:STANDARD
END:VTIMEZONE
BEGIN:VEVENT
DTSTART;TZID=America/Toronto:20231101T180000
DTEND;TZID=America/Toronto:20231101T220000
DTSTAMP:20260423T065524
CREATED:20230816T124159Z
LAST-MODIFIED:20230816T124201Z
UID:16965-1698861600-1698876000@winnipegconstruction.ca
SUMMARY:The Safetys Gala
DESCRIPTION:In 2017\, The Safetys Gala was created to celebrate individuals and businesses who are committed to workplace safety in our province. The overwhelming success of the gala demonstrates that workplace safety is clearly in the forefront of the business community. \n\n\n\nDuring the gala\, Manitoba industry-based safety programs and other safety ​partners present awards to individuals and workplaces for their achievements in occupational health and safety. \n\n\n\nThe 2023 Safetys Gala will take place on Wednesday\, November 1 at the Victoria Inn Hotel and Convention Centre. 
URL:https://winnipegconstruction.ca/event/the-safetys-gala/
LOCATION:Victoria Inn Hotel and Convention Centre\, 1808 Wellington Avenue\, Winnipeg\, MB\, R3H 0G3\, Canada
CATEGORIES:CSAM
ATTACH;FMTTYPE=image/jpeg:https://winnipegconstruction.ca/app/uploads/2023/08/the-safetys.jpg
END:VEVENT
END:VCALENDAR